BEGIN:VCALENDAR
VERSION:2.0
PRODID:icalendar-ruby
CALSCALE:GREGORIAN
METHOD:PUBLISH
BEGIN:VEVENT
DTSTAMP:20260425T104132Z
UID:185-844129@crosschurchkc.com
DTSTART:20260918T000000Z
DTEND:20260918T010000Z
CLASS:PUBLIC
CREATED:20260424T200720
DESCRIPTION:
LAST-MODIFIED:20260424T200720
LOCATION:19405 W 151st Terrace Olathe\, KS 66062
SUMMARY:Midweek Discipleship
URL;VALUE=URI:https://www.crosschurchkc.com/events/midweek-discipleship--18
 5/2026-09-17
END:VEVENT
END:VCALENDAR
